Workbook

Sheet BIO & RATINGS
B2: NAME: | C2: Bill Perkins | E2: POSITIONAL EXPERIENCE | H2: CURRENT STATS - BATTING | S2: 250
B3: NICKNAME: | C3: Cy | F3: 200 | H3: AB | I3: H | J3: 2B | K3: 3B | L3: HR | M3: BB | N3: HBP | O3: K | R3: Stamina: | U3: Velocity: | X3: GB Tend:
B4: DOB: | C4: 06/26/1906 | E4: Pitcher: | H4: =+'IMPORT DATA B'!B21 -> 550 | I4: =+'IMPORT DATA B'!C21 -> 119 | J4: =+'IMPORT DATA B'!D21 -> 20 | K4: =+'IMPORT DATA B'!E21 -> 4 | L4: =+'IMPORT DATA B'!F21 -> 5 | M4: =+'IMPORT DATA B'!G21 -> 29 | N4: =+'IMPORT DATA B'!H21 -> 2 | O4: =+'IMPORT DATA B'!I21 -> 124 | R4: Hold: | U4: Arm Slot:
B5: BIRTHPLACE: | C5: Dawson, GA | E5: Catcher: | F5: 200
E6: First Base: | H6: POTENTIAL STATS - BATTING
B7: HEIGHT (CM): | C7: 178 (5'10") | E7: Second Base: | H7: AB | I7: H | J7: 2B | K7: 3B | L7: HR | M7: BB | N7: HBP | O7: K
B8: WEIGHT (LB): | C8: 176 | E8: Third Base: | H8: =+'IMPORT DATA B'!B28 -> 550 | I8: =+'IMPORT DATA B'!C28 -> 162 | J8: =+'IMPORT DATA B'!D28 -> 27 | K8: =+'IMPORT DATA B'!E28 -> 7 | L8: =+'IMPORT DATA B'!F28 -> 8 | M8: =+'IMPORT DATA B'!G28 -> 48 | N8: =+'IMPORT DATA B'!H28 -> 3 | O8: =+'IMPORT DATA B'!I28 -> 73
E9: Shortstop:
B10: BATS: | C10: Right | E10: Left Field: | F10: 100 | H10: CURRENT STATS - PITCHING | O10: MOV | P10: CONT
B11: THROWS: | C11: Right | E11: Center Field: | H11: IP | I11: HRA | J11: BB | K11: HBP | L11: K | N11: CUR v L | O11: =+'IMPORT DATA P'!I7 -> 0 | P11: =+'IMPORT DATA P'!I8 -> 0
B12: PRIMARY POSITION: | C12: C | E12: Right Field: | F12: 100 | H12: =+'IMPORT DATA P'!B16 -> 250 | I12: =+'IMPORT DATA P'!C16 -> 0 | J12: =+'IMPORT DATA P'!D16 -> 0 | K12: =+'IMPORT DATA P'!E16 -> 0 | L12: =+'IMPORT DATA P'!F16 -> 0 | N12: CUR v R | O12: =+'IMPORT DATA P'!J7 -> 0 | P12: =+'IMPORT DATA P'!J8 -> 0
B13: IMPORT ID: | C13: perkin049bil | N13: POT | O13: =+'IMPORT DATA P'!K7 -> 0 | P13: =+'IMPORT DATA P'!K8 -> 0
B14: IMPORT YEAR: | C14: 1928 | E14: FIELDING RATINGS | H14: POTENTIAL STATS - PITCHING
F15: 250 | H15: IP | I15: HRA | J15: BB | K15: HBP | L15: K | R15: JAR p619
B16: GROUNDBALL TENDENCY: | C16: Normal | E16: Infield Range: | H16: =+'IMPORT DATA P'!B23 -> 250 | I16: =+'IMPORT DATA P'!C23 -> 0 | J16: =+'IMPORT DATA P'!D23 -> 0 | K16: =+'IMPORT DATA P'!E23 -> 0 | L16: =+'IMPORT DATA P'!F23 -> 0
B17: FLYBALL TENDENCY: | C17: Normal | E17: Infield Error:
C18: 250 | E18: Infield Arm: | H18: CURRENT PITCH RATINGS
B19: Running Speed: | C19: 15 | E19: Turn Double Plays: | H19: =+'IMPORT DATA P'!I12 -> FB | I19: =+'IMPORT DATA P'!J12 -> SINK | J19: =+'IMPORT DATA P'!K12 -> CURVE | K19: =+'IMPORT DATA P'!L12 -> SLIDER | L19: =+'IMPORT DATA P'!M12 -> CHG-UP | M19: =+'IMPORT DATA P'!N12 -> SPLIT | N19: =+'IMPORT DATA P'!O12 -> FORK | O19: =+'IMPORT DATA P'!P12 -> KNUCK
B20: Stealing Ability: | C20: 25 | E20: Catcher Ability: | F20: 110 | H20: =+'IMPORT DATA P'!I16 -> 0 | I20: =+'IMPORT DATA P'!J16 -> 0 | J20: =+'IMPORT DATA P'!K16 -> 0 | K20: =+'IMPORT DATA P'!L16 -> 0 | L20: =+'IMPORT DATA P'!M16 -> 0 | M20: =+'IMPORT DATA P'!N16 -> 0 | N20: =+'IMPORT DATA P'!O16 -> 0 | O20: =+'IMPORT DATA P'!P16 -> 0
B21: Baserunning Skills: | C21: 35 | E21: Catcher Arm: | F21: 115
C22: 250 | E22: Outfield Range: | F22: 90 | H22: POTENTIAL PITCH RATINGS
B23: Sacrifice Bunting: | C23: 25 | E23: Outfield Error: | F23: 85 | H23: =+'IMPORT DATA P'!I19 -> FB | I23: =+'IMPORT DATA P'!J19 -> SINK | J23: =+'IMPORT DATA P'!K19 -> CURVE | K23: =+'IMPORT DATA P'!L19 -> SLIDER | L23: =+'IMPORT DATA P'!M19 -> CHG-UP | M23: =+'IMPORT DATA P'!N19 -> SPLIT | N23: =+'IMPORT DATA P'!O19 -> FORK | O23: =+'IMPORT DATA P'!P19 -> KNUCK
B24: Bunt for a Hit: | C24: 5 | E24: Outfield Arm: | F24: 105 | H24: =+'IMPORT DATA P'!I23 -> 0 | I24: =+'IMPORT DATA P'!J23 -> 0 | J24: =+'IMPORT DATA P'!K23 -> 0 | K24: =+'IMPORT DATA P'!L23 -> 0 | L24: =+'IMPORT DATA P'!M23 -> 0 | M24: =+'IMPORT DATA P'!N23 -> 0 | N24: =+'IMPORT DATA P'!O23 -> 0 | O24: =+'IMPORT DATA P'!P23 -> 0

Sheet IMPORT DATA B
A1: RAW STATS - HITTING
B2: AB | C2: H | D2: 2B | E2: 3B | F2: HR | G2: BB | H2: HBP | I2: K | J2: K% | K2: BA | L2: OBP | M2: SLG
A3: SH 162G AVE | B3: 553 | C3: 156 | D3: 25 | E3: 8 | F3: 8 | G3: 51 | H3: 3 | I3: =+B3*J3 -> 77.42 | J3: 0.14 | K3: 0.281 | L3: 0.344 | M3: 0.399
A4: 550AB AVE | B4: 550 | C4: =+C3*($B$4/$B$3) -> 155.15371 | D4: =+D3*($B$4/$B$3) -> 24.864376 | E4: =+E3*($B$4/$B$3) -> 7.9566004 | F4: =+F3*($B$4/$B$3) -> 7.9566004 | G4: =+G3*($B$4/$B$3) -> 50.723327 | H4: =+H3*($B$4/$B$3) -> 2.9837251 | I4: =+I3*($B$4/$B$3) -> 77 | K4: =+K3 -> 0.281 | L4: =+L3 -> 0.344 | M4: =+M3 -> 0.399
A6: MLE TOTALS | B6: 6266 | C6: 1739 | D6: 313 | E6: 53 | F6: 92 | G6: 469 | H6: 38 | I6: =+B6*J6 -> 877.24 | J6: =+J3 -> 0.14 | K6: 0.278 | L6: 0.33 | M6: 0.388
A7: 550AB AVE | B7: 550 | C7: =+C6*($B$7/$B$6) -> 152.64124 | D7: =+D6*($B$7/$B$6) -> 27.473667 | E7: =+E6*($B$7/$B$6) -> 4.6520906 | F7: =+F6*($B$7/$B$6) -> 8.0753272 | G7: =+G6*($B$7/$B$6) -> 41.166613 | H7: =+H6*($B$7/$B$6) -> 3.3354612 | I7: =+I6*($B$7/$B$6) -> 77 | K7: =+K6 -> 0.278 | L7: =+L6 -> 0.33 | M7: =+M6 -> 0.388
A9: FINAL | B9: 550 | C9: =+(C4+C7)/2 -> 153.89747 | D9: =+(D4+D7)/2 -> 26.169022 | E9: =+(E4+E7)/2 -> 6.3043455 | F9: =+(F4+F7)/2 -> 8.0159638 | G9: =+(G4+G7)/2 -> 45.94497 | H9: =+(H4+H7)/2 -> 3.1595932 | I9: =+(I4+I7)/2 -> 77 | K9: =+(K4+K7)/2 -> 0.2795 | L9: =+(L4+L7)/2 -> 0.337 | M9: =+(M4+M7)/2 -> 0.3935
A11: K ratings
A12: PC | B12: 95 | C12: 90 | D12: 85 | E12: 80 | F12: 75 | G12: 70 | H12: 65 | I12: 60 | J12: 55 | K12: 50 | L12: 45 | M12: 40 | N12: 35 | O12: 30 | P12: 25 | Q12: 20 | R12: 15 | S12: 10 | T12: 5
A13: Percent | B13: 2 | C13: 3 | D13: 4 | E13: 5 | F13: 6 | G13: 8 | H13: 10 | I13: 12 | J13: 14 | K13: 16 | L13: 18 | M13: 20 | N13: 22 | O13: 24 | P13: 26 | Q13: 28 | R13: 30 | S13: 32 | T13: 33
A16: CURRENT STATS - HITTING
B17: AB | C17: H | D17: 2B | E17: 3B | F17: HR | G17: BB | H17: HBP | I17: K
A18: 0.4 | B18: 550 | C18: =+C9*$A18 -> 61.558989 | D18: =+D9*$A18 -> 10.467609 | E18: =+E9*$A18 -> 2.5217382 | F18: =+F9*$A18 -> 3.2063855 | G18: =+G9*$A18 -> 18.377988 | H18: =+H9*$A18 -> 1.2638373 | I18: =+I9/$A18 -> 192.5
A19: 0.6 | B19: 550 | C19: =+C9*$A19 -> 92.338484 | D19: =+D9*$A19 -> 15.701413 | E19: =+E9*$A19 -> 3.7826073 | F19: =+F9*$A19 -> 4.8095783 | G19: =+G9*$A19 -> 27.566982 | H19: =+H9*$A19 -> 1.8957559 | I19: =+I9/$A19 -> 128.33333
A20: 0.8 | B20: 550 | C20: =+C9*$A20 -> 123.11798 | D20: =+D9*$A20 -> 20.935217 | E20: =+E9*$A20 -> 5.0434764 | F20: =+F9*$A20 -> 6.412771 | G20: =+G9*$A20 -> 36.755976 | H20: =+H9*$A20 -> 2.5276745 | I20: =+I9/$A20 -> 96.25
A21: FINAL | B21: 550 | C21: 119 | D21: 20 | E21: 4 | F21: 5 | G21: 29 | H21: 2 | I21: 124
A23: POTENTIAL STATS - HITTING
B24: AB | C24: H | D24: 2B | E24: 3B | F24: HR | G24: BB | H24: HBP | I24: K
A25: 0.9 | B25: 550 | C25: =+C9*$A25 -> 138.50773 | D25: =+D9*$A25 -> 23.55212 | E25: =+E9*$A25 -> 5.673911 | F25: =+F9*$A25 -> 7.2143674 | G25: =+G9*$A25 -> 41.350473 | H25: =+H9*$A25 -> 2.8436339 | I25: =+I9/$A25 -> 85.555556
A26: 1.1 | B26: 550 | C26: =+C9*$A26 -> 169.28722 | D26: =+D9*$A26 -> 28.785924 | E26: =+E9*$A26 -> 6.9347801 | F26: =+F9*$A26 -> 8.8175601 | G26: =+G9*$A26 -> 50.539467 | H26: =+H9*$A26 -> 3.4755525 | I26: =+I9/$A26 -> 70
A27: 1.25 | B27: 550 | C27: =+C9*$A27 -> 192.37184 | D27: =+D9*$A27 -> 32.711277 | E27: =+E9*$A27 -> 7.8804319 | F27: =+F9*$A27 -> 10.019955 | G27: =+G9*$A27 -> 57.431213 | H27: =+H9*$A27 -> 3.9494915 | I27: =+I9/$A27 -> 61.6
A28: FINAL | B28: 550 | C28: 162 | D28: 27 | E28: 7 | F28: 8 | G28: 48 | H28: 3 | I28: 73

Sheet IMPORT DATA P
A1: RAW STATS - PITCHING | H1: RAW PITCH RATINGS
B2: IP | C2: HRA | D2: BB | E2: HBP | F2: K | I2: FB | J2: SINK | K2: CURVE | L2: SLIDER | M2: CHG-UP | N2: SPLIT | O2: FORK | P2: KNUCK
A3: SH 162G AVE | I3: 56 | J3: 0 | K3: 54 | L3: 59 | M3: 57 | N3: 58 | O3: 46 | P3: 0
A4: 250IP AVE | B4: 250 | C4: =+C3*($B$4/$B$3) -> #DIV/0! | D4: =+D3*($B$4/$B$3) -> #DIV/0! | E4: =+E3*($B$4/$B$3) -> #DIV/0! | F4: =+F3*($B$4/$B$3) -> #DIV/0!
A6: MLE TOTALS | I6: CUR v L | J6: CUR v R | K6: POT
A7: 250IP AVE | B7: 250 | C7: =+C6*($B$7/$B$6) -> #DIV/0! | D7: =+D6*($B$7/$B$6) -> #DIV/0! | E7: =+E6*($B$7/$B$6) -> #DIV/0! | F7: =+F6*($B$7/$B$6) -> #DIV/0! | H7: MOV
H8: CONT
A9: FINAL | B9: 250 | C9: =+(C4+C7)/2 -> #DIV/0! | D9: =+(D4+D7)/2 -> #DIV/0! | E9: =+(E4+E7)/2 -> #DIV/0! | F9: =+(F4+F7)/2 -> #DIV/0!
A11: CURRENT STATS - PITCHING | H11: CURRENT PITCH RATINGS
B12: IP | C12: HRA | D12: BB | E12: HBP | F12: K | I12: =+I2 -> FB | J12: =+J2 -> SINK | K12: =+K2 -> CURVE | L12: =+L2 -> SLIDER | M12: =+M2 -> CHG-UP | N12: =+N2 -> SPLIT | O12: =+O2 -> FORK | P12: =+P2 -> KNUCK
A13: 0.6 | B13: 250 | C13: =+C$9/$A$13 -> #DIV/0! | D13: =+D$9/$A$13 -> #DIV/0! | E13: =+E$9/$A$13 -> #DIV/0! | F13: =+F$9*$A$13 -> #DIV/0! | H13: 0.4 | I13: =+I3*$H$13 -> 22.4 | J13: =+J3*$H$13 -> 0 | K13: =+K3*$H$13 -> 21.6 | L13: =+L3*$H$13 -> 23.6 | M13: =+M3*$H$13 -> 22.8 | N13: =+N3*$H$13 -> 23.2 | O13: =+O3*$H$13 -> 18.4 | P13: =+P3*$H$13 -> 0
A14: 0.7 | B14: 250 | C14: =+C$9/$A$14 -> #DIV/0! | D14: =+D$9/$A$14 -> #DIV/0! | E14: =+E$9/$A$14 -> #DIV/0! | F14: =+F$9*$A$14 -> #DIV/0! | H14: 0.6 | I14: =+I3*$H$14 -> 33.6 | J14: =+J3*$H$14 -> 0 | K14: =+K3*$H$14 -> 32.4 | L14: =+L3*$H$14 -> 35.4 | M14: =+M3*$H$14 -> 34.2 | N14: =+N3*$H$14 -> 34.8 | O14: =+O3*$H$14 -> 27.6 | P14: =+P3*$H$14 -> 0
A15: 0.8 | B15: 250 | C15: =+C$9/$A$15 -> #DIV/0! | D15: =+D$9/$A$15 -> #DIV/0! | E15: =+E$9/$A$15 -> #DIV/0! | F15: =+F$9*$A$15 -> #DIV/0! | H15: 0.8 | I15: =+I3*$H$15 -> 44.8 | J15: =+J3*$H$15 -> 0 | K15: =+K3*$H$15 -> 43.2 | L15: =+L3*$H$15 -> 47.2 | M15: =+M3*$H$15 -> 45.6 | N15: =+N3*$H$15 -> 46.4 | O15: =+O3*$H$15 -> 36.8 | P15: =+P3*$H$15 -> 0
A16: FINAL | B16: 250 | H16: FINAL
A18: POTENTIAL STATS - PITCHING | H18: POTENTIAL PITCH RATINGS
B19: IP | C19: HRA | D19: BB | E19: HBP | F19: K | I19: =+I2 -> FB | J19: =+J2 -> SINK | K19: =+K2 -> CURVE | L19: =+L2 -> SLIDER | M19: =+M2 -> CHG-UP | N19: =+N2 -> SPLIT | O19: =+O2 -> FORK | P19: =+P2 -> KNUCK
A20: 0.9 | B20: 250 | C20: =+C$9/$A20 -> #DIV/0! | D20: =+D$9/$A20 -> #DIV/0! | E20: =+E$9/$A20 -> #DIV/0! | F20: =+F$9*$A20 -> #DIV/0! | H20: 0.9 | I20: =+I3*$H$20 -> 50.4 | J20: =+J3*$H$20 -> 0 | K20: =+K3*$H$20 -> 48.6 | L20: =+L3*$H$20 -> 53.1 | M20: =+M3*$H$20 -> 51.3 | N20: =+N3*$H$20 -> 52.2 | O20: =+O3*$H$20 -> 41.4 | P20: =+P3*$H$20 -> 0
A21: 1.1 | B21: 250 | C21: =+C$9/$A21 -> #DIV/0! | D21: =+D$9/$A21 -> #DIV/0! | E21: =+E$9/$A21 -> #DIV/0! | F21: =+F$9*$A21 -> #DIV/0! | H21: 1.1 | I21: =+I3*$H$21 -> 61.6 | J21: =+J3*$H$21 -> 0 | K21: =+K3*$H$21 -> 59.4 | L21: =+L3*$H$21 -> 64.9 | M21: =+M3*$H$21 -> 62.7 | N21: =+N3*$H$21 -> 63.8 | O21: =+O3*$H$21 -> 50.6 | P21: =+P3*$H$21 -> 0
A22: 1.25 | B22: 250 | C22: =+C$9/$A22 -> #DIV/0! | D22: =+D$9/$A22 -> #DIV/0! | E22: =+E$9/$A22 -> #DIV/0! | F22: =+F$4*$A22 -> #DIV/0! | H22: 1.25 | I22: =+I3*$H$22 -> 70 | J22: =+J3*$H$22 -> 0 | K22: =+K3*$H$22 -> 67.5 | L22: =+L3*$H$22 -> 73.75 | M22: =+M3*$H$22 -> 71.25 | N22: =+N3*$H$22 -> 72.5 | O22: =+O3*$H$22 -> 57.5 | P22: =+P3*$H$22 -> 0
A23: FINAL | B23: 250 | H23: FINAL

Sheet WORKING
A1: James A. Riley, Biographical Encyclopedia of the Negro Leagues
A14: OTHER SOURCES
